BEGIN:VCALENDAR
VERSION:2.0
PRODID:spatie/icalendar-generator
DESCRIPTION:Events from APNH
X-WR-CALDESC:Events from APNH
REFRESH-INTERVAL;VALUE=DURATION:PT1440M
X-PUBLISHED-TTL:PT1440M
BEGIN:VTIMEZONE
TZID:Etc/GMT+0
BEGIN:STANDARD
DTSTART:20250302T000000Z
TZOFFSETFROM:+0000
TZOFFSETTO:+0000
END:STANDARD
END:VTIMEZONE
BEGIN:VTIMEZONE
TZID:UTC
BEGIN:STANDARD
DTSTART:20250725T080450Z
TZOFFSETFROM:+0000
TZOFFSETTO:+0000
END:STANDARD
END:VTIMEZONE
BEGIN:VEVENT
UID:62-37
DTSTAMP:20260421T080450Z
SUMMARY:*CLOSED* for Thanksgiving
LOCATION:
ORGANIZER;CN=APNH 2018:MAILTO:chris.cole@apnh.org
DTSTART;TZID=Etc/GMT+0;VALUE=DATE:20251127
DTEND;TZID=Etc/GMT+0;VALUE=DATE:20251128
X-ALT-DESC;FMTTYPE=TEXT/HTML:APNH will be closed in observance of Thanksgiv
 ing.
CATEGORIES:General
URL;VALUE=URI:https://apnh.org/mc-events/closed-for-thanksgiving/
METHOD:PUBLISH
END:VEVENT
END:VCALENDAR