BEGIN:VCALENDAR
VERSION:2.0
PRODID:spatie/icalendar-generator
DESCRIPTION:Events from APNH
X-WR-CALDESC:Events from APNH
REFRESH-INTERVAL;VALUE=DURATION:PT1440M
X-PUBLISHED-TTL:PT1440M
BEGIN:VTIMEZONE
TZID:Etc/GMT+0
BEGIN:STANDARD
DTSTART:20250810T183000Z
TZOFFSETFROM:+0000
TZOFFSETTO:+0000
END:STANDARD
END:VTIMEZONE
BEGIN:VTIMEZONE
TZID:UTC
BEGIN:STANDARD
DTSTART:20250725T093511Z
TZOFFSETFROM:+0000
TZOFFSETTO:+0000
END:STANDARD
END:VTIMEZONE
BEGIN:VEVENT
UID:193-132
DTSTAMP:20260421T093511Z
SUMMARY:Black Queer Women Affinity Group
LOCATION:
ORGANIZER;CN=APNH 2018:MAILTO:chris.cole@apnh.org
RRULE:FREQ=MONTHLY;BYDAY=1TH;UNTIL=20261203T000000Z
DTSTART;TZID=Etc/GMT+0:20260507T183000
DTEND;TZID=Etc/GMT+0:20260507T193000
X-ALT-DESC;FMTTYPE=TEXT/HTML:The Black Queer Women Affinity Group at APNH i
 s a community member led space to make connections\, find support\, and ju
 st be. We’ll gather monthly to connect\, share our experiences\, try new
  things\, and talk about everything—from the joyful to the tough. Most i
 mportantly\, we’ll laugh\, celebrate one another\, and be held. Come as 
 you&amp;hellip\;
CATEGORIES:General
URL;VALUE=URI:https://apnh.org/mc-events/black-queer-women-affinity-group/?
 mc_id=193
METHOD:PUBLISH
END:VEVENT
END:VCALENDAR